Workbook

Sheet 제출서류안내
B1: ■ 연말정산 제출 및 작성서류 안내
B2: 구분 | C2: 내 용 | D2: 제 출 대 상 | F2: 비고
B3: 1 | C3: 주민등록등본 | D3: 전 직원 (전년도와 공제대상자 변동이 없으면 제출 X) - 작년에 공제받지 않은 대상자가 추가된 경우 제출, 제외된 경우에는 제출 X | F3: -
B4: 2 | C4: 가족관계증명서 | D4: 전 직원 기본공제대상자가 근로자 본인과 주민등록 주소지가 다른 경우 - 기본공제를 받는 대상자가 전년도와 변동이 없을 경우 제출 X | F4: -
B5: 3 | C5: 연말정산간소화 서비스 자료 (PDF 출력 자료) | D5: 전 직원 (소득세액공제신고서 작성 후 함께 서면 제출) | F5: -
B6: 3-1 | C6: 연말정산간소화 서비스 자료 (PDF 파일) | D6: 전 직원 (본인 및 기본공제대상자 자료를 "일괄" 방식으로 다운받아 제출) ※ 25년도 신규입사자 중 25년도에 근로제공기간이 없는 기간에 대해서는 국세청 간소화자료에서 해당기간 월은 체크 해제 후 자료 제출 ex) 25.07.15 최초 취직 신규입사자 : 7~12월 간소화자료만 체크하여 제출 25.03.15 전직장 퇴사 및 25.07.15 중도 입사자: 1~3월, 7~12월 자료만 제출 ※ 공제를 받고자 하는 모든 가족(공제대상자) 자료를 하나의 파일로 제출 | F6: 1) PDF 다운시 비밀번호 걸지 말 것! 2) 파일명: 수정하지 말고 그대로 제출 ex) 홍길동(901205)-2025년도자료
B7: 4 | C7: 소득·세액 공제신고서 (총 3 sheet) | D7: 전 직원 <엑셀 파일의 신고서(1쪽), 신고서(2쪽), 신고서(3쪽) Sheet > | F7: 4번~9번까지 엑셀 파일 작성 후 파일 첨부하여 메일로 회신
B8: 5 | C8: 연금 · 저축 등 소득공제 명세서 | D8: 해당자만 (액수와 관계없이 공제를 받을 경우 제출)
B9: 6 | C9: 월세액 명세서
B10: 7 | C10: 의료비지급명세서
B11: 8 | C11: 신용카드 등 소득공제 신청서
B12: 9 | C12: 기부금명세서
B13: 10 | C13: 영수증 발급기관에서 발급하는 소득공제용 영수증 | D13: 연말정산간소화 서비스에서 제공하지 않을 경우 | F13: 교육비, 의료비, 기부금 영수증 등
B14: 11 | C14: 장애인 등록증(복지카드,수첩 등) 또는 증명서 | D14: 해당자만 (연말정산간소화 서비스에 포함되어 있는 경우, 별도 제출 X) | F14: 입사시 제출한 경우 별도 제출 X
B15: 12 | C15: 종전근무지 근로소득원천징수영수증, 기부금이월명세서 | D15: 해당자만 (25년 중도입사자 중에 종전근무지 근로소득이 있는 경우) | F15: 입사시 제출한 경우 별도 제출 X
B17: 많이 묻는 질문 | D17: 답 변
B18: - 기본공제 대상이 되려면 소득이 얼마 이하이어야 하나요? | D18: 1. 근로소득만 있는 경우 : 총급여 년 500만원 이하 2. 근로소득 외 다른 소득이 있는 경우 : (종합소득금액+퇴직소득금액+양도소득금액) 년 100만원 이하 ※ 종합소득금액 = (이자·배당소득, 근로소득, 사업소득, 기타소득, 연금소득) ex) 일용근로소득만 있는 경우 : 금액에 관계없이 기본공제 가능 2025년도에 발생한 퇴직소득금액이 100만원을 초과할 경우 기본공제 불가, 금융소득(이자·배당) 2천만원 이상 : 기본공제 불가, 공적연금(국민연금, 공무원·군인연금, 사학연금 등)액이 516만원 초과 : 기본공제 불가, 분리과세되는 사적 연금소득이 1,500만원 초과 : 기본공제 불가 분리과세를 선택한 주택임대소득의 총수입금액이 2,000만원을 초과 : 기본공제 불가, 1세대 1주택 외 양도소득금액이 100만원 초과 : 기본공제 불가
B19: - 기본공제대상자가 아닌 가족의 공제가 가능한 항목은? | D19: 의료비 공제는 기본공제대상자가 아니라도 합산하여 신청 가능합니다. 단, 배우자가 기본공제를 받는 자녀 등의 의료비는 공제가 불가합니다.
B20: - 기본공제 나이 제한 요건은? | D20: 본인 및 배우자: 없음, 직계비속: 만 20세이하 (2005.1.1이후 출생), 직계존속: 만 60세이상 (1965.12.31 이전 출생), 경로우대공제: 만 70세이상 (1955.12.31 이전 출생)
B22: - 혼인세액공제는 어떻게 적용되나요? | D22: 2025년도에 혼인신고를 한 거주자에 대해서 50만원의 세액공제 적용 (혼인세액공제는 일생에 한 번만 적용함) ※ 과거 혼인신고 이력이 있더라도 혼인세액공제를 받은 적이 없으면서, 2025년에 새로이 혼인신고를 한 경우에는 혼인세액공제 적용 가능
B23: - 자녀세액공제는 어떻게 적용되나요? | D23: 1. 기본공제대상자인 자녀 중 만 8세 이상(2017.12.31이전 출생)인 자녀가 있는 경우: 자녀 1명: 25만원, 자녀 2명: 55만원, 자녀 3명 이상: 55만원 + (기본공제대상 자녀 인원수 - 2명) x 40만원 2. 2025년도에 출생하거나 입양 신고한 기본공제대상 자녀가 있는 경우: 출산·입양한 자녀가 첫째이면 30만원, 둘째면 50만원, 셋째 이상이면 70만원
B24: - 연도 중 공제대상자가 사망한 경우 공제가 가능한가요? | D24: 연도 중 사망한 경우에도 공제가 가능합니다.
B25: - 부녀자공제 소득 요건은 어떻게 되나요? | D25: 1. 기혼여성 : 총급여액 41,470,588원 이하인 경우 2. 미혼여성 : 총급여액 41,470,588원 이하이면서 기본공제대상 부양가족이 있는 세대주인 경우
B27: - 한부모가족공제 요건은 어떻게 되나요? | D27: 배우자가 없는 근로자(남녀 불문)로서, 기본공제대상인 직계비속 또는 입양자가 있는 경우
B28: - 형제자매의 신용카드 소득공제가 가능한가요? | D28: 기본공제대상자(장애인 포함)라 할지라도 형제자매의 신용카드 사용액은 공제 불가능합니다.

Sheet 신고서(1쪽)
A1: ■ 소득세법 시행규칙 [별지 제37호서식(1)] <개정 2025. . .> | R1: (8쪽 중 제1쪽)
A3: 소득ㆍ세액 공제신고서/근로소득자 소득ㆍ세액 공제신고서( 2025 년 소득에 대한 연말정산용)
A4: ※ 근로소득자는 신고서에 소득ㆍ세액 공제 증명서류를 첨부하여 원천징수의무자(소속 회사 등)에게 제출하며, 원천징수의무자는 신고서 및 첨부서류를 확인하여 근로소득 세액계산을 하고 근로소득자에게 즉시 근로소득원천징수영수증을 발급해야 합니다. 연말정산 시 근로소득자에게 환급이 발생하는 경우 원천징수의무자는 근로소득자에게 환급세액을 지급해야 합니다.
A5: 소득자 성명 | O5: 주민등록번호 | T5: -
A6: 근무처 명칭 | D6: 주식회사 프로워크 | O6: 사업자등록번호 | T6: 751-81-00863
A7: 세대주 여부 | D7: 세대주 세대원 세대주의 배우자 | O7: 국 적 | T7: 대한민국 ( 국적 코드 : KR )
A8: 근무기간 | D8: 2025. . . ~ 2025. 12. 31. | O8: 감면기간 | T8: ∼
A9: 거주구분 | D9: [√]거주자 [ ]비거주자 | O9: 거주지국 | T9: 대한민국 ( 거주지국 코드 : KR )
A10: 인적공제 항목 | D10: 전년과 동일 변동 | O10: 분납신청 여부 [ ] 신청 [ ] 미신청
A11: 변동 여부
A12: 원천징수세액 선택 | D12: [ ] | E12: 1.2 | H12: [ ] | J12: 1 | L12: [ ] | M12: 0.8 | O12: ※ 근로소득자 본인이 원하는 경우 매월 원천징수하는 세액을 법령상 세액을 120%, 100%, 80% 중 선택할 수 있습니다.
A13: Ⅰ . 인 적 공 제 및 소 득 · 세 액 공 제 명 세 서 | B13: 인적공제 항목 | K13: 각종 소득ㆍ세액 공제 항목
B14: 관계 코드 | C14: 성 명 | E14: 소득 금액 기준 (백만원) 초과 여부 | F14: 기본공제 | H14: 경로 우대 | I14: 혼인세액공제 | J14: 출산 입양 | K14: 자료 구분 | L14: 보험료 | T14: 의료비
B15: 내ㆍ외 국인 | C15: 주민등록번호 | F15: 부 녀 자 | G15: 한 부 모 | H15: 장 애 인 | J15: 자녀 | L15: 건강보험 | N15: 고용보험 | P15: 보장성 | R15: 장애인 전용 보장성 | T15: 일반 | U15: 미숙아 ∙선천성 이상아 | V15: 난임시술비 | W15: 본인 6세이하 65세이상 장애인,산정특례 | Y15: 실손의료보험금
B16: 인적공제 항목에 해당하는 인원수를 적습니다. (자녀: 명) | F16: =COUNTIFS(F20:G33,"O")+1 -> 1 | G16: =COUNTA(G18,G20,G22,G24,G26,G28,G30,G32,#REF!) -> 1 | H16: =COUNTA(H18,H20,H22,H24,H26,H28,H30,H32) -> 0 | I16: =COUNTA(I18) -> 0 | J16: =COUNTA(J18,J20,J22,J24,J26,J28,J30,J32) -> 0 | K16: 국세청 계 | L16: =L18+L20+L22+L24+L26+L28+L30+L32 -> 0 | N16: =N18+N20+N22+N24+N26+N28+N30+N32 -> 0 | P16: =P18+P20+P22+P24+P26+P28+P30+P32 -> 0 | R16: =R18+R20+R22+R24+R26+R28+R30+R32 -> 0 | T16: =T18+T20+T22+T24+T26+T28+T30+T32 -> 0 | U16: =U18+U20+U22+U24+U26+U28+U30+U32 -> 0 | V16: =V18+V20+V22+V24+V26+V28+V30+V32 -> 0 | W16: =W18+W20+W22+W24+W26+W28+W30+W32 -> 0 | Y16: =Y18+Y20+Y22+Y24+Y26+Y28+Y30+Y32 -> 0
F17: =COUNTA(F19) -> 0 | G17: =COUNTA(G19) -> 0 | H17: =COUNTA(H19,H21,H23,H25,H27,H29,H31,H33) -> 0 | J17: =COUNTA(J19,J21,J23,J25,J27,J29,J31,J33) -> 0 | K17: 기타 계 | L17: =L19+L21+L23+L25+L27+L29+L31+L33 -> 0 | N17: =N19+N21+N23+N25+N27+N29+N31+N33 -> 0 | P17: =P19+P21+P23+P25+P27+P29+P31+P33 -> 0 | R17: =R19+R21+R23+R25+R27+R29+R31+R33 -> 0 | T17: =T19+T21+T23+T25+T27+T29+T31+T33 -> 0 | U17: =U19+U21+U23+U25+U27+U29+U31+U33 -> 0 | V17: =V19+V21+V23+V25+V27+V29+V31+V33 -> 0 | W17: =W19+W21+W23+W25+W27+W29+W31+W33 -> 0 | Y17: =Y19+Y21+Y23+Y25+Y27+Y29+Y31+Y33 -> 0
B18: 0 | C18: =+IF($D$5="","",$D$5) | E18: 무관 | F18: O | K18: 국세청
B19: 1 | C19: (근로자 본인) | K19: 기타
K20: 국세청
C21: - | K21: 기타
K22: 국세청
C23: - | K23: 기타
K24: 국세청
C25: - | K25: 기타
K26: 국세청
C27: - | K27: 기타
K28: 국세청
C29: - | K29: 기타
K30: 국세청
C31: - | K31: 기타
K32: 국세청
C33: - | K33: 기타
B34: 인적공제 | E34: 각종 소득 ∙ 세액 공제 항목
B35: 관계 코드 | C35: 성 명 | E35: 자료 구분 | F35: 교육비 | L35: 신용카드 등 사용액 | Y35: 기부금
F36: 일반 | I36: 장애인 | L36: 신용카드 | O36: 직불카드 등 | S36: 현금영수증 | U36: 문화체육사용분 | W36: 전통시장 | X36: 대중교통
B37: 내ㆍ외 국인 | C37: 주민등록번호
AB38: 신용카드 / 직불카드 등(제로페이사용분 포함) / 현금영수증) 사용액: 공제대상자 별로 "일반" 금액 기재
E39: 국세청 계 | F39: =F41+F43+F45+F47+F49+F51+F53+F55 -> 0 | I39: =I41+I43+I45+I47+I49+I51+I53+I55 -> 0 | L39: =L41+L43+L45+L47+L49+L51+L53+L55 -> 0 | O39: =O41+O43+O45+O47+O49+O51+O53+O55 -> 0 | S39: =S41+S43+S45+S47+S49+S51+S53+S55 -> 0 | U39: =U41+U43+U45+U47+U49+U51+U53+U55 -> 0 | W39: =W41+W43+W45+W47+W49+W51+W53+W55 -> 0 | X39: =X41+X43+X45+X47+X49+X51+X53+X55 -> 0 | Y39: =Y41+Y43+Y45+Y47+Y49+Y51+Y53+Y55 -> 0 | AB39: 문화체육사용분 / 전통시장 / 대중교통 : 공제대상자 별로 해당금액 기재
E40: 기타 계 | F40: =F42+F44+F46+F48+F50+F52+F54+F56 -> 0 | I40: =I42+I44+I46+I48+I50+I52+I54+I56 -> 0 | L40: =L42+L44+L46+L48+L50+L52+L54+L56 -> 0 | O40: =O42+O44+O46+O48+O50+O52+O54+O56 -> 0 | S40: 0 | U40: =U42+U44+U46+U48+U50+U52+U54+U56 -> 0 | W40: =W42+W44+W46+W48+W50+W52+W54+W56 -> 0 | X40: =X42+X44+X46+X48+X50+X52+X54+X56 -> 0 | Y40: =Y42+Y44+Y46+Y48+Y50+Y52+Y54+Y56 -> 0
B41: =+IF(B18="","",B18) -> 0 | C41: =+IF(C18="","",C18) | E41: 국세청
...

Sheet 신고서(2쪽)
I1: (8쪽 중 제2쪽)
A2: 구분 | C2: 지출명세 | H2: 지출구분 | J2: 금 액 | K2: 한도액 | L2: 공제액
A3: Ⅱ. | B3: 연금보험료 | C3: 국민연금보험료 | F3: 종(전)근무지 | H3: 보험료 | K3: 전액 | L3: =+J3 -> 0
A4: 연금보험료공제 | B4: (국민연금,공무원연금, 군인연금, 교직원연금 등) | F4: 주(현)근무지 | H4: 보험료 | K4: 전액 | L4: =+J4 -> 0
C5: 국민연금보험료 외의 공적연금보험료 | F5: 종(전)근무지 | H5: 보험료 | K5: 전액 | L5: =+J5 -> 0
F6: 주(현)근무지 | H6: 보험료 | K6: 전액 | L6: =+J6 -> 0
C7: 연금보험료 계 | J7: =J3+J4+J5+J6 -> 0 | L7: =+L3+L4+L5+L6 -> 0
A8: Ⅲ. 특 별 소 득 공 제 | B8: 보험료 | C8: 국민건강보험 | F8: 종(전)근무지 | H8: 보험료 | K8: 전액 | L8: =+J8 -> 0
C9: (노인장기요양보험 포함) | F9: 주(현)근무지 | H9: 보험료 | K9: 전액 | L9: =+J9 -> 0
C10: 고용보험 | F10: 종(전)근무지 | H10: 보험료 | K10: 전액 | L10: =+J10 -> 0
F11: 주(현)근무지 | H11: 보험료 | K11: 전액 | L11: =+J11 -> 0
C12: 보험료 계 | J12: =J8+J9+J10+J11 -> 0 | L12: =+L8+L9+L10+L11 -> 0
B13: 주택자금 | C13: 주택임차차입금 | E13: 대출기관차입 | H13: 원리금상환액 | K13: 작성방법 참조 | L13: =IF(J13*40%>=4000000,4000000,J13*40%) -> 0
E14: 거주자 차입 | L14: =IF((J14*40%+L13)>=4000000,MIN(4000000-L13,J14),J14*40%) -> 0
C15: 장기 주택 저당 차입금 | D15: 2011년 이전 차입분 | E15: 15년 미만 | H15: 이자 상환액 | K15: 작성방법 참조 | L15: =IF(J15>=6000000,6000000,J15) -> 0
E16: 15년~29년 | L16: =IF(J16>=10000000,10000000,J16) -> 0
E17: 30년 이상 | L17: =IF(J17>=15000000,15000000,J17) -> 0
E18: 15년 이상 | F18: 고정금리 and 비거치상환대출 | L18: =IF(J18>=20000000,20000000,J18) -> 0
F19: 고정금리 or 비거치상환대출 | L19: =IF(J19>=18000000,18000000,J19) -> 0
D20: 2012년 이후 차입분 | E20: 15년 이상 | F20: 고정금리 and 비거치상환 대출 | L20: =IF(J20>=20000000,20000000,J20) -> 0
F21: 고정금리 or 비거치상환 대출 | L21: =IF(J21>=18000000,18000000,J21) -> 0
F22: 기타 대출 | L22: =IF(J22>=8000000,8000000,J22) -> 0
E23: 10년- 15년 | F23: 고정금리 or 비거치상환 대출 | L23: =IF(J23>=6000000,6000000,J23) -> 0
C24: 주택자금 공제액 계 | J24: =+J13+J14+J15+J16+J17+J18+J19+J20+J21+J22+J23 -> 0 | L24: =+L13+L14+L15+L16+L17+L18+L19+L20+L21+L22+L23 -> 0
A25: Ⅳ. 그 밖 의 소 득 공 제 | B25: 개인연금저축(2000년 이전 가입) | H25: 납입금액 | K25: 불입액40%,72만원 | L25: =+MIN(J25*40%,720000) -> 0
B26: 소기업ㆍ소상공인 공제부금 | H26: 납입금액 | K26: 작성방법 참조 | L26: =IF(ISBLANK(J26),0,IF(신용카드등소득공제신청서!$R$37>100000000,MIN(J26,2000000),IF(신용카드등소득공제신청서!$R$37>40000000,MIN(J26,3000000),MIN(J26,5000000)))) -> 0
B27: 주택마련저축 | C27: 청약저축 | H27: 납입금액 | K27: 작성방법 참조 | L27: =IF(ISBLANK(J27),0,IF((J13+J14)>=4000000,0,MIN((4000000-(J13+J14))*40%,IF(신용카드등소득공제신청서!$R$37>70000000,0,MIN(J27*40%,3000000*40%))))) -> 0
C28: 근로자주택마련저축 | H28: 납입금액 | K28: 작성방법 참조 | L28: =IF(ISBLANK(J28),0,IF((J13+J14+J27)>=4000000,0,MIN((4000000-(J13+J14+J27))*40%,IF(신용카드등소득공제신청서!$R$37>70000000,0,MIN(J28*40%,1800000*40%))))) -> 0
C29: 주택청약종합저축 | H29: 납입금액 | K29: 작성방법 참조 | L29: =IF(ISBLANK(J29),0,IF((J13+J14+J27+J28)>=4000000,0,MIN((4000000-(J13+J14+J27+J28))*40%,IF(신용카드등소득공제신청서!$R$37>70000000,0,MIN(J29*40%,3000000*40%))))) -> 0
C30: 주택마련저축 소득공제 계 | J30: =+J27+J28+J29 -> 0 | L30: =+L27+L28+L29 -> 0
B31: 투자조합 출자 등 | C31: 2023년 출자ㆍ투자분 | G31: 벤처 등 | H31: 출자ㆍ투자금액 | K31: 작성방법 참조 | L31: =+IF(ISBLANK(J31),0,MIN(IF(J31<=30000000,J31,IF(AND(J31>30000000,J31<=50000000),30000000+(J31-30000000)*70%,IF(J31>50000000,30000000+(50000000-30000000)*70%+(J31-50000000)*30%))),신용카드등소득공제신청서!$R$37*50%)) -> 0
G32: 조합 1 | L32: =+IF(ISBLANK(J32),0,MIN((J32*10%),신용카드등소득공제신청서!$R$37*50%)) -> 0
G33: 조합 2 | L33: =+IF(ISBLANK(J33),0,MIN(MIN(J33,30000000)*10%,신용카드등소득공제신청서!$R$37*50%)) -> 0
C34: 2024년 출자ㆍ투자분 | G34: 벤처 등 | H34: 출자ㆍ투자금액 | K34: 작성방법 참조 | L34: =+IF(ISBLANK(J34),0,MIN(IF(J34<=30000000,J34,IF(AND(J34>30000000,J34<=50000000),30000000+(J34-30000000)*70%,IF(J34>50000000,30000000+(50000000-30000000)*70%+(J34-50000000)*30%))),신용카드등소득공제신청서!$R$37*50%)) -> 0
G35: 조합 1 | L35: =+IF(ISBLANK(J35),0,MIN((J35*10%),신용카드등소득공제신청서!$R$37*50%)) -> 0
G36: 조합 2 | L36: =+IF(ISBLANK(J36),0,MIN(MIN(J36,30000000)*10%,신용카드등소득공제신청서!$R$37*50%)) -> 0
C37: 2025년 출자ㆍ투자분 | G37: 벤처 등 | H37: 출자ㆍ투자금액 | K37: 작성방법 참조 | L37: =+IF(ISBLANK(J37),0,MIN(IF(J37<=30000000,J37,IF(AND(J37>30000000,J37<=50000000),30000000+(J37-30000000)*70%,IF(J37>50000000,30000000+(50000000-30000000)*70%+(J37-50000000)*30%))),신용카드등소득공제신청서!$R$37*50%)) -> 0
G38: 조합 1 | L38: =+IF(ISBLANK(J38),0,MIN((J38*10%),신용카드등소득공제신청서!$R$37*50%)) -> 0
G39: 조합 2 | L39: =+IF(ISBLANK(J39),0,MIN(MIN(J39,30000000)*10%,신용카드등소득공제신청서!$R$37*50%)) -> 0
C40: 투자조합 출자 등 소득공제 계 | J40: =+J31+J32+J33+J34+J35+J36+J37+J38+J39 -> 0 | L40: =+L31+L32+L33+L34+L35+L36+L37+L38+L39 -> 0 | M40: ※ 기준시가 확인: 국토교통부 부동산공시가격 알리미 | R40: http://www.realtyprice.kr
...

Sheet 신고서(3쪽)
J1: (8쪽 중 제3쪽)
A2: 구분 | C2: 세액감면ㆍ공제명세 | I2: 세액감면ㆍ공제 명세
A3: Ⅴ.세액감면및공제 | B3: 세액감면 | C3: 외국인근로자 | D3: 입국목적 | G3: [ ]정부간 협약 [ ]「조세특례제한법」상 감면 [ ]조세조약 상 감면
D4: 기술도입계약 또는 근로제공일 | M4: 감면기간 만료일
D5: 외국인 근로소득에 대한 감면 | I5: 접수일 | P5: 제출일
D6: 근로소득에 대한 조세조약 상 면제 | I6: 접수일 | P6: 제출일
C7: 성과공유 중소기업 경영성과급 감면 | I7: 시작일 | P7: 종료일
C8: 중소기업 청년근로자 및 핵심인력 성과보상기금 수령액 감면 | I8: 시작일 | P8: 종료일
C9: 내국인 우수 인력 국내 복귀 감면 | I9: 시작일 | P9: 종료일
C10: 중소기업 취업자 감면 | I10: 취업일 | M10: - - | P10: 감면기간 종료일 | T10: - -
B11: 세액공제 | C11: 공 제 종 류 | I11: 명세 | N11: 한도액 | Q11: 공제대상금액 | S11: 공제율 | U11: 공제세액
C12: 연금계좌 | E12: 「과학기술인공제회법」에 따른 퇴직연금 | I12: 납입금액 | N12: 작성방법 참조 | Q12: =IF((L12+Q13+Q14)>=9000000,(9000000-Q13-Q14),L12) -> 0 | S12: 12% 또는 15% | U12: =+INT(IF(신용카드등소득공제신청서!$R$37<=55000000,Q12*15%,Q12*12%)) -> 0
E13: 「근로자퇴직급여 보장법」에 따른 퇴직연금 | I13: 납입금액 | Q13: =IF((L13+Q14)>=9000000,(9000000-Q14),L13) -> 0 | U13: =+INT(IF(신용카드등소득공제신청서!$R$37<=55000000,Q13*15%,Q13*12%)) -> 0
E14: 연금저축 | I14: 납입금액 | Q14: =+IF(L14>6000000,6000000,L14) -> 0 | U14: =+INT(IF(신용카드등소득공제신청서!$R$37<=55000000,Q14*15%,Q14*12%)) -> 0
E15: ISA계좌 만기시 연금계좌 납입액 | I15: 납입금액 | Q15: =+MIN(L15*10%,3000000) -> 0 | U15: =+INT(IF(신용카드등소득공제신청서!$R$37<=55000000,Q15*15%,Q15*12%)) -> 0
E16: 연금계좌 계 | L16: =L12+L13+L14+L15 -> 0 | Q16: =+Q12+Q13+Q14+Q15 -> 0 | U16: =+U12+U13+U14+U15 -> 0
C17: 특 별 세 액 공 제 | E17: 보 험 료 | F17: 보장성 | I17: 보험료 | L17: ='신고서(1쪽)'!P16+'신고서(1쪽)'!P17 -> 0 | N17: 100만원 | Q17: =+IF(L17>=1000000,1000000,L17) -> 0 | S17: 0.12 | U17: =+INT(Q17*12%) -> 0
F18: 장애인전용보장성 | I18: 보험료 | L18: ='신고서(1쪽)'!R16+'신고서(1쪽)'!R17 -> 0 | N18: 100만원 | Q18: =+IF(L18>=1000000,1000000,L18) -> 0 | S18: 0.15 | U18: =+INT(Q18*15%) -> 0
F19: 보험료 계 | L19: =L17+L18 -> 0 | Q19: =+Q17+Q18 -> 0 | U19: =+U17+U18 -> 0
E20: 의 료 비 | F20: 본인∙6세이하·65세 이상자∙장애인 ∙건강보험산정특례자 | I20: 지출액 | L20: =+'신고서(1쪽)'!W16+'신고서(1쪽)'!W17 -> 0 | N20: 작성방법 참조 | S20: 0.15
F21: 난임시술비 | I21: 지출액 | L21: =+'신고서(1쪽)'!V16+'신고서(1쪽)'!V17 -> 0 | S21: 0.3
F22: 미숙아∙선천성 이상아 | I22: 지출액 | L22: =+'신고서(1쪽)'!U16+'신고서(1쪽)'!U17 -> 0 | S22: 0.2
F23: 그 밖의 공제대상자 | I23: 지출액 | L23: =+'신고서(1쪽)'!T16+'신고서(1쪽)'!T17 -> 0 | S23: 0.15
F24: 실손의료보험금 계 | I24: 수령액 | L24: =+'신고서(1쪽)'!Y16+'신고서(1쪽)'!Y17 -> 0
F25: 의료비 계 | L25: =MAX(L20+L21+L22+L23-L24,0) -> 0 | Q25: =+IF(L25<INT(신용카드등소득공제신청서!$R$37*3%),0,IF((L23-L24)<INT(신용카드등소득공제신청서!$R$37*3%),L20+L21+L22-(INT(신용카드등소득공제신청서!$R$37*3%)-MAX((L23-L24),0)),L20+L21+L22+MIN(MAX((L23-L24),0)-INT(신용카드등소득공제신청서!R37*3%),7000000))) -> 0 | U25: =+IF(Q25<0,0,INT(L20*15%)+INT(L21*30%)+INT(L22*20%)+IF((L23-L24)<INT(신용카드등소득공제신청서!$R$37*3%),(INT(신용카드등소득공제신청서!$R$37*3%)-MAX((L23-L24),0)),MIN(MAX((L23-L24),0)-INT(신용카드등소득공제신청서!R37*3%),7000000))) -> 0
E26: 교 육 비 | F26: 소득자 본인 | I26: 공납금(대학원 포함) | L26: =+'신고서(1쪽)'!F41+'신고서(1쪽)'!F42+'신고서(1쪽)'!I41+'신고서(1쪽)'!I42 -> 0 | N26: 전액 | Q26: =+L26 -> 0 | S26: 0.15 | U26: =+Q26*15% -> 0
F27: 취학전 아동 ( 명) | I27: 유치원ㆍ학원비 등 | N27: 1명당 300만원 | Q27: =+L27 -> 0 | U27: =+Q27*15% -> 0
F28: 초ㆍ중ㆍ고등학교( 명) | I28: 공납금 | N28: 1명당 300만원 | Q28: =+L28 -> 0 | U28: =+Q28*15% -> 0
F29: 대학생(대학원 불포함) ( 명) | I29: 공납금 | N29: 1명당 900만원 | Q29: =+L29 -> 0 | U29: =+Q29*15% -> 0
F30: 장애인 ( 명) | I30: 특수교육비 | N30: 전액 | Q30: =+L30 -> 0 | U30: =+Q30*15% -> 0
F31: 교육비 계 | L31: =L26+L27+L28+L29+L30 -> 0 | Q31: =+Q26+Q27+Q28+Q29+Q30 -> 0 | U31: =+U26+U27+U28+U29+U30 -> 0
E32: 기 부 금 | F32: 정치자금 기부금 | H32: 10만원 이하 | I32: 기부금액 | N32: 작성방법 참조 | Q32: =+L32 -> 0 | S32: 100/110 | U32: =+Q32*(100/110) -> 0
H34: 10만원 초과 | I34: 기부금액 | Q34: =+L34 -> 0 | S34: 15%,25% | U34: =+IF(Q34<=30000000,Q34*15%,30000000*15%+(Q34-30000000)*25%) -> 0
F35: 고향사랑기부금 | H35: 10만원 이하 | I35: 기부금액 | Q35: =+L35 -> 0 | S35: 100/110 | U35: =+Q35*(100/110) -> 0
H36: 10만원 초과(일반) | I36: 기부금액 | Q36: =+L36 -> 0 | S36: 0.15 | U36: =+MIN(5000000,Q36)*15% -> 0
H37: 10만원 초과(특별재난) | I37: 기부금액 | Q37: =+L37 -> 0 | S37: 0.3 | U37: =+MIN(5000000,Q37)*30% -> 0
F38: 특례(법정)기부금 | I38: 기부금액 | Q38: =+L38 -> 0 | S38: 15% 또는 30% | U38: =+IF(ISBLANK(Q38),0,MAX(IF(Q38<=10000000,Q38*15%,10000000*15%+(Q38-10000000)*30%),0)) -> 0
F39: 우리사주조합기부금 | I39: 기부금액 | Q39: =+L39 -> 0 | U39: =+IF(ISBLANK(Q39),0,MAX(IF(Q39<=10000000,Q39*15%,10000000*15%+(Q39-10000000)*30%),0)) -> 0
F40: 일반(지정) 기부금(종교단체외) | I40: 기부금액 | Q40: =+L40 -> 0 | U40: =+IF(ISBLANK(Q40),0,MAX(IF(Q40<=10000000,Q40*15%,10000000*15%+(Q40-10000000)*30%),0)) -> 0
F41: 일반(지정) 기부금(종교단체) | I41: 기부금액 | Q41: =+L41 -> 0 | U41: =+IF(ISBLANK(Q41),0,MAX(IF(Q41<=10000000,Q41*15%,10000000*15%+(Q41-10000000)*30%),0)) -> 0
...

Sheet 연금저축등소득공제명세서
B1: 연금ㆍ저축 등 소득ㆍ세액 공제명세서
B2: 1. 인적사항 | D2: ① 상 호 | E2: =+IF('신고서(1쪽)'!D6="","",'신고서(1쪽)'!D6) -> 주식회사 프로워크 | I2: ② 사업자등록번호 | L2: =+IF('신고서(1쪽)'!T6="","",'신고서(1쪽)'!T6) -> 751-81-00863
D3: ③ 성 명 | E3: =+IF('신고서(1쪽)'!D5="","",'신고서(1쪽)'!D5) | I3: ④ 주민등록번호 | L3: =+IF('신고서(1쪽)'!T5="","",'신고서(1쪽)'!T5) -> -
D4: ⑤ 주 소
D6: ⑥ 사업장 소재지 | E6: (전화번호 : )
B9: 2. 연금계좌 세액공제
B10: 1) 퇴직연금계좌
B11: * 퇴직연금계좌에 대한 명세를 작성합니다.
B12: 퇴직연금 구분 | C12: 금융회사 등 | G12: 계좌번호 (또는 증권번호) | I12: 납입금액 | L12: 세액공제금액
B13: IRP | L13: =IF(ISBLANK(I13),0,IF(신용카드등소득공제신청서!$R$37<=55000000,IF(I13>=9000000,(9000000-I19-I20-I21)*15%+MIN(L25+L26,3000000),MIN(9000000-I19-I20-I21,I13)*15%+MIN(L25+L26,3000000)),IF(I13>=9000000,(9000000-I19-I20-I21)*12%+MIN(L25+L26,3000000),MIN(9000000-I19-I20-I21,I13)*12%+MIN(L25+L26,3000000)))) -> 0
B14: IRP | L14: =IF(ISBLANK(I14),0,IF(신용카드등소득공제신청서!$R$37<=55000000,IF(I14>=9000000,(9000000-I19-I20-I21)*15%+MIN(L25+L26,3000000),MIN(9000000-I19-I20-I21,I14)*15%+MIN(L25+L26,3000000)),IF(I14>=9000000,(9000000-I19-I20-I21)*12%+MIN(L25+L26,3000000),MIN(9000000-I19-I20-I21,I14)*12%+MIN(L25+L26,3000000)))) -> 0
B15: IRP | L15: =IF(ISBLANK(I15),0,IF(신용카드등소득공제신청서!$R$37<=55000000,IF(I15>=9000000,(9000000-I19-I20-I21)*15%+MIN(L25+L26,3000000),MIN(9000000-I19-I20-I21,I15)*15%+MIN(L25+L26,3000000)),IF(I15>=9000000,(9000000-I19-I20-I21)*12%+MIN(L25+L26,3000000),MIN(9000000-I19-I20-I21,I15)*12%+MIN(L25+L26,3000000)))) -> 0
B16: 2) 연금저축계좌
B17: * 연금저축계좌에 대한 명세를 작성합니다.
B18: 연금저축구분 | C18: 금융회사 등 | G18: 계좌번호 (또는 증권번호) | I18: 납입금액 | L18: 소득ㆍ세액 공제금액
B19: 연금저축 | L19: =IF(ISBLANK(I19),0,IF(신용카드등소득공제신청서!$R$37<=55000000,MIN(6000000,I19)*15%,MIN(6000000,I19)*12%)) -> 0
B20: 연금저축 | L20: =IF(ISBLANK(I20),0,IF(신용카드등소득공제신청서!$R$37<=55000000,MAX(IF(I19>=6000000,0,MIN(6000000-I19,I20))*15%,0),MAX(IF(I19>=6000000,0,MIN(6000000-I19,I20))*12%,0))) -> 0
B21: 연금저축 | L21: =IF(ISBLANK(I21),0,IF(신용카드등소득공제신청서!$R$37<=55000000,MAX(IF((I19+I20)>=6000000,0,MIN(6000000-I19-I20,I21))*15%,0),MAX(IF((I19+I20)>=6000000,0,MIN(6000000-I19-I20,I21))*12%,0))) -> 0
B22: 3) 개인종합자산관리계좌(ISA) 만기 시 연금계좌 납입액
B23: * 납입 연금저축계좌·퇴직연금계좌에 대한 명세를 작성합니다.
B24: 연금저축구분 | C24: 금융회사 등 | G24: 계좌번호 (또는 증권번호) | I24: 납입금액 | L24: 세액 공제금액
L25: =IF(ISBLANK(I25),0,MIN(I25*10%,3000000)) -> 0
L26: =IF(ISBLANK(I26),0,MIN(I26*10%,3000000-L25)) -> 0
B27: 3. 주택마련저축 소득공제
B28: * 주택마련저축 소득공제에 대한 명세를 작성합니다.
B29: 저축 구분 | C29: 금융회사 등 | F29: 계좌번호 (또는 증권번호) | I29: 납입금액 | L29: 소득공제금액
L30: =IF(ISBLANK(I30),0,IF('신고서(2쪽)'!$L$13+'신고서(2쪽)'!$L$14>4000000,0,MAX(0,MIN(4000000-'신고서(2쪽)'!$L$13-'신고서(2쪽)'!$L$14,MIN(3000000,I30))*40%))) -> 0
L31: =IF(ISBLANK(I31),0,IF('신고서(2쪽)'!$L$13+'신고서(2쪽)'!$L$14>4000000,0,MAX(0,MIN(4000000-'신고서(2쪽)'!$L$13-'신고서(2쪽)'!$L$14-L30,MIN(3000000,I31)*40%)))) -> 0
L32: =IF(ISBLANK(I32),0,IF('신고서(2쪽)'!$L$13+'신고서(2쪽)'!$L$14>4000000,0,MAX(0,MIN(4000000-'신고서(2쪽)'!$L$13-'신고서(2쪽)'!$L$14-L30-L31,MIN(1800000,I32)*40%)))) -> 0
B33: 4. 장기집합투자증권저축 소득공제
B34: * 장기집합투자증권저축 소득공제에 대한 명세를 작성합니다.
B35: 금융회사 등 | F35: 계좌번호 (또는 증권번호) | I35: 납입금액 | L35: 소득공제금액
L36: =IF(ISBLANK(I36),0,IF(신용카드등소득공제신청서!$R$37>80000000,0,IF((I36*40%)>=2400000,2400000,(I36*40%)))) -> 0
L37: =IF(ISBLANK(I37),0,IF(신용카드등소득공제신청서!$R$37>80000000,0,IF((I37*40%)+L36>=2400000,2400000,(I37*40%)+L36))) -> 0
L38: =IF(ISBLANK(I38),0,IF(신용카드등소득공제신청서!$R$37>80000000,0,IF((I38*40%)+L36+L37>=2400000,2400000,(I38*40%)+L36+L37))) -> 0
B39: 5. 벤처투자조합 출자 등에 대한 소득공제
B40: * 벤처투자조합 출자 등 소득공제에 대한 명세서를 작성합니다.
B41: 투자연도 | D41: 투자 구분 | F41: 금융기관 등 | H41: 계좌번호 (또는 증권번호) | L41: 납입금액
B45: 6. 청년형 장기집합투자증권저축 소득공제
B46: * 청년형 장기집합투자증권저축 소득공제에 대한 명세서를 작성합니다.
...

Sheet 월세액명세서
J1: (8쪽 중 제8쪽)
A2: [√] 월세액 ㆍ[ ] 거주자 간 주택임차차입금 원리금 상환액 소득공제 명세서
G3: 무주택자 해당여부 여 부
A4: 1.인적사항 | D4: ① 상 호 | E4: =+IF('신고서(1쪽)'!D6="","",'신고서(1쪽)'!D6) -> 주식회사 프로워크 | N4: ②사업자등록번호 | Q4: =+IF('신고서(1쪽)'!T6="","",'신고서(1쪽)'!T6) -> 751-81-00863
D5: ③ 성 명 | E5: =+IF('신고서(1쪽)'!D5="","",'신고서(1쪽)'!D5) | N5: ④ 주민등록번호 | Q5: =+IF('신고서(1쪽)'!T5="","",'신고서(1쪽)'!T5) -> -
D6: ⑤ 주 소
D8: ⑥ 사업장 소재지
D9: (전화번호 : )
A10: 2. 월세액 소득공제 명세
A11: ⑦ 임대인 | D11: ⑧ 주민등록번호 | E11: ⑨ 유형 | G11: ⑩ 계약 | H11: ⑪ 임대차계약서 상 | K11: ⑫ 계약서상 | Q11: ⑬ 연간 월세액 (원) | T11: ⑭ 세액공제 금액 (원)
A12: 성 명 | D12: (사업자번호) | G12: 면적( ㎡ ) | H12: 주소지 | K12: 임대차 계약기간
A13: (상 호) | K13: 개시일 | O13: 종료일
D14: - | G14: ㎡ | K14: - - | O14: - - | T14: =+INT(IF(ISBLANK(Q14),0,IF(신용카드등소득공제신청서!$R$37<=55000000,IF(Q14>=10000000,10000000*17%,Q14*17%),IF(Q14>=10000000,10000000*15%,Q14*15%)))) -> 0
D15: - | G15: ㎡ | K15: - - | O15: - - | T15: =+INT(IF(ISBLANK(Q15),0,IF(신용카드등소득공제신청서!$R$37<=55000000,IF(Q14+Q15>=10000000,(Q15-(Q14+Q15-10000000))*17%,Q15*17%),IF(Q14+Q15>=10000000,(Q15-(Q14+Q15-10000000))*15%,Q15*15%)))) -> 0
D16: - | G16: ㎡ | K16: - - | O16: - - | T16: =+INT(IF(ISBLANK(Q16),0,IF(신용카드등소득공제신청서!$R$37<=55000000,IF(Q14+Q15+Q16>=10000000,(Q16-(Q14+Q15+Q16-10000000))*17%,Q16*17%),IF(Q14+Q15+Q16>=10000000,(Q16-(Q14+Q15+Q16-10000000))*15%,Q16*15%)))) -> 0
A17: ※⑨ 유형 구분코드 - 단독주택:1, 다가구:2, 다세대주택:3, 연립주택:4, 아파트:5, 오피스텔:6, 고시원:7, 기타:8
A18: ※⑫ 계약서상 임대차계약기간 - 개시일과 종료일은 예시와 같은 형식으로 기재 (예시) 개시일: 2025-07-01 / 종료일: 2026-06-30
A19: 3. 거주자 간 주택임차차입금 원리금 상환액 소득공제 명세
A20: 1) 금전소비대차 계약내용
A21: ⑮ 대주(貸主) | D21: ⑯주민등록번호 | F21: ⑰ 금전소비대차 | I21: ⑱ 차입금 | J21: 원리금 상환액 | R21: (22)공제금액
F22: 계약기간 | I22: 이자율 | J22: ⑲ 계 | M22: ⑳ 원금 | P22: (21)이자
D23: - | F23: - - ~ - -
D24: - | F24: - - ~ - -
D25: - | F25: - - ~ - -
A26: 2) 임대차 계약내용
A27: (23)임대인 | C27: (24)주민등록번호 | E27: (25)주택 | G27: (26)주택 | H27: (27)임대차계약서상 | L27: (28)계약서상 | M27: (28)계약서상 | R27: (29)전세보증금 (원)
A28: 성 명 | C28: (사업자번호) | E28: 유형 | G28: 계약 | H28: 주소지 | L28: 임대차 계약기간 | M28: 임대차 계약기간
A29: (상 호) | G29: 면적(m2) | L29: 개시일 | M29: 개시일 | P29: 종료일
C30: - | G30: ㎡ | M30: - - | P30: - -
C31: - | G31: ㎡ | M31: - - | P31: - -
C32: - | G32: ㎡ | M32: - - | P32: - -
A33: ※(25) 유형 구분코드 - 단독주택:1, 다가구:2, 다세대주택:3, 연립주택:4, 아파트:5, 오피스텔:6, 고시원:7, 기타:8
A34: ※(26) 계약서상 임대차계약기간 - 개시일과 종료일은 예시와 같은 형식으로 기재 (예시) 개시일: 2025-07-01 / 종료일: 2026-06-30
A36: 작 성 방 법
A37: 1. 월세액 공제나 거주자 간 주택임차자금 차입금 원리금 상환액 공제를 받는 근로소득자에 대해서는 해당 소득공제에 대한 명세를 작성해야 합니다.
A38: 2. 해당 임대차 계약별로 연간 합계인 월세액ㆍ원리금상환액과 공제금액을 적으며, 공제금액이 "0"인 경우에는 적지 않습니다.
A39: 3. ⑨,(25) 주택유형은 단독주택, 다가구주택, 다세대주택, 연립주택, 아파트, 오피스텔, 기타 중에서 해당되는 유형의 구분코드를 적습니다.
A40: 4. (29) 전세보증금은 과세기간 종료일(12.31.) 현재의 전세보증금을 적습니다.
A41: 210mm×297mm[백상지 80g/㎡]

Sheet 의료비지급명세서
B2: ■ 소득세법 시행규칙 [별지 제43호서식] <개정 2025. 3. 21>
B3: 의료비 지급명세서
B4: 소득자 인적사항
B5: ① 성명 | C5: =+IF('신고서(1쪽)'!D5="","",'신고서(1쪽)'!D5) | E5: ② 주민등록번호(또는 외국인등록번호) | H5: =+IF('신고서(1쪽)'!T5="","",'신고서(1쪽)'!T5) -> -
B6: ③ 상호 | C6: =+IF('신고서(1쪽)'!D6="","",'신고서(1쪽)'!D6) -> 주식회사 프로워크 | E6: ④ 사업자등록번호 | H6: =+IF('신고서(1쪽)'!T6="","",'신고서(1쪽)'!T6) -> 751-81-00863
B8: ( 2025 )년 의료비 지급명세
B9: 의료비 공제 대상자 | D9: 지 급 처 | G9: 지급명세
B10: ⑤주민등록번호 | C10: ⑥본인등 해당여부 | D10: ⑦사 업 자 등록번호 | E10: ⑧상호 | F10: ⑨의료 증빙 코드 | G10: ⑩ 건수 | H10: ⑪금액 | I10: ⑫ 미숙아· 선천성 이상아 해당여부 | J10: ⑬ 난임시술비 해당여부
B12: - | D12: - -
B13: - | D13: - -
B14: - | D14: - -
B15: - | D15: - -
B16: - | D16: - -
B17: - | D17: - -
B18: - | D18: - -
B19: - | D19: - -
B20: - | D20: - -
B21: - | D21: - -
D22: 합 계 | H22: =SUM(H12:H21) -> 0
B23: 「소득세법」제59조의4와 같은 법 시행령 제113조제1항 및 제118조의5제3항에 따라 의료비를 공제받기 위하여 의료비지급명세서를 제출합니다.
B25: =TODAY() -> 46030
E26: 제 출 자 | F26: =+IF('신고서(1쪽)'!D5="","",'신고서(1쪽)'!D5) | H26: (서명 또는 인)
B28: 작 성 방 법
B29: (의료비 공제를 받으려는 근로자는 원천징수의무자에게 이 의료비지급명세서를 제출해야 합니다.)
B30: 1. ③항과 ④항은 「조세특례제한법」 제 122조의3에 따른 사업자의 경우에만 적으며, 2008년 1월 1일 이후 발생하는 분부터 적용합니다.
B31: 2. 의료비 지급내용 중 의료비 공제가 가능한 내용만 적고, 같은 의료비명세를 중복하여 적을 수 없습니다.
B32: (예) 국세청장이 연말정산간소화서비스를 통해 제공하는 의료비자료에 포함된 금액을 별도의 진료비계산서를 첨부하여 중복으로 적는 경우
B33: 3. 본인등 해당 여부란은 본인∙65세이상자∙장애인∙건강보험산정특례자인 경우에 "0"표시를 하며, 그밖의 기본공제대상자인 경우에는 "X"표시를 합니다.
B34: 4. 국세청장이 연말정산간소화서비스를 통해 제공하는 의료비자료의 경우에는 의료비 공제대상자별로 의료비 지출 합계액을 적습니다. 따라서 지급처의
B35: 사업자등록번호, 건수를 적지 않습니다.
B36: 5. 의료비증빙코드란에는 공제대상자 및 지급처별로 다음의 하나만을 선택하여 적습니다.
B37: • 국세청장이 연말정산간소화서비스를 통해 제공하는 의료비 자료 = 1
B38: • 국민건강보험공단의 의료비부담명세서 = 2
B39: • 진료비계산서, 약제비계산서 = 3
... B46: 7. 의료비 지급명세란이 부족할 때에는 별지로 작성합니다.

Sheet 신용카드등소득공제신청서
A1: ■조세특례제한법 시행규칙 [별지 제74호의6 서식] <개정 2025. 00. 00. >
A2: (앞쪽)
A3: 신용카드 등 소득공제 신청서
A4: 거 주 자 성 명 | D4: =+IF('신고서(1쪽)'!D5="","",'신고서(1쪽)'!D5) | L4: 생년월일 | O4: =+F13
A5: 근 무 처 명 칭 | D5: =+IF('신고서(1쪽)'!D6="","",'신고서(1쪽)'!D6) -> 주식회사 프로워크 | L5: 사업자등록번호 | O5: =+IF('신고서(1쪽)'!T6="","",'신고서(1쪽)'!T6) -> 751-81-00863
A7: 1. 공제대상자 및 공제대상금액 명세
A8: 공제대상자 | H8: 신용카드 등 사용금액
A9: ①내ㆍ외국인 구분 | B9: ②관계 | D9: ③성명 | F9: ④생년월일 | H9: 자료구분 | I9: ⑤ 소 계 (⑥+⑦+⑧+⑨+⑩+⑪) | K9: ⑥ 신용카드 | M9: ⑦ 직불ㆍ선불카드 등 | P9: ⑧ 현금영수증 | R9: ⑨문화체육 사용분 (총급여 7천만원 이하인 대상자만 공제대상) | S9: ⑩전통시장 사용분 | U9: ⑪대중교통 이용분
A13: =IF(ISBLANK('신고서(1쪽)'!B42),"",'신고서(1쪽)'!B42) -> 1 | B13: =IF(ISBLANK('신고서(1쪽)'!B41),"",'신고서(1쪽)'!B41) -> 0 | D13: =IF(ISBLANK('신고서(1쪽)'!C41),"",'신고서(1쪽)'!C41) | F13: =IF('신고서(1쪽)'!T5="-","",DATE(LEFT('신고서(1쪽)'!T5,2),MID('신고서(1쪽)'!T5,3,2),MID('신고서(1쪽)'!T5,5,2))) | H13: 국세청 자료 | I13: =K13+M13+P13+R13+S13+U13 -> 0 | K13: =+'신고서(1쪽)'!L41 -> 0 | M13: =+'신고서(1쪽)'!O41 -> 0 | P13: ='신고서(1쪽)'!S41 -> 0 | R13: ='신고서(1쪽)'!U41 -> 0 | S13: ='신고서(1쪽)'!W41 -> 0 | U13: ='신고서(1쪽)'!X41 -> 0
H14: 그 밖의 자료 | I14: =K14+M14+P14+R14+S14+U14 -> 0 | K14: =+'신고서(1쪽)'!L42 -> 0 | M14: =+'신고서(1쪽)'!O42 -> 0 | R14: ='신고서(1쪽)'!U42 -> 0 | S14: ='신고서(1쪽)'!W42 -> 0 | U14: ='신고서(1쪽)'!X42 -> 0
A15: =IF(ISBLANK('신고서(1쪽)'!B44),"",'신고서(1쪽)'!B44) | B15: =IF(ISBLANK('신고서(1쪽)'!B43),"",'신고서(1쪽)'!B43) | D15: =IF(ISBLANK('신고서(1쪽)'!C43),"",'신고서(1쪽)'!C43) | F15: =IF('신고서(1쪽)'!C44="-","",DATE(LEFT('신고서(1쪽)'!C44,2),MID('신고서(1쪽)'!C44,3,2),MID('신고서(1쪽)'!C44,5,2))) | H15: 국세청 자료 | I15: =K15+M15+P15+R15+S15+U15 -> 0 | K15: =+'신고서(1쪽)'!L43 -> 0 | M15: =+'신고서(1쪽)'!O43 -> 0 | P15: ='신고서(1쪽)'!S43 -> 0 | R15: ='신고서(1쪽)'!U43 -> 0 | S15: ='신고서(1쪽)'!W43 -> 0 | U15: ='신고서(1쪽)'!X43 -> 0
H16: 그 밖의 자료 | I16: =K16+M16+P16+R16+S16+U16 -> 0 | K16: =+'신고서(1쪽)'!L44 -> 0 | M16: =+'신고서(1쪽)'!O44 -> 0 | R16: ='신고서(1쪽)'!U44 -> 0 | S16: ='신고서(1쪽)'!W44 -> 0 | U16: ='신고서(1쪽)'!X44 -> 0
A17: =IF(ISBLANK('신고서(1쪽)'!B46),"",'신고서(1쪽)'!B46) | B17: =IF(ISBLANK('신고서(1쪽)'!B45),"",'신고서(1쪽)'!B45) | D17: =IF(ISBLANK('신고서(1쪽)'!C45),"",'신고서(1쪽)'!C45) | F17: =IF('신고서(1쪽)'!C46="-","",DATE(LEFT('신고서(1쪽)'!C46,2),MID('신고서(1쪽)'!C46,3,2),MID('신고서(1쪽)'!C46,5,2))) | H17: 국세청 자료 | I17: =K17+M17+P17+R17+S17+U17 -> 0 | K17: =+'신고서(1쪽)'!L45 -> 0 | M17: =+'신고서(1쪽)'!O45 -> 0 | P17: ='신고서(1쪽)'!S45 -> 0 | R17: ='신고서(1쪽)'!U45 -> 0 | S17: ='신고서(1쪽)'!W45 -> 0 | U17: ='신고서(1쪽)'!X45 -> 0
H18: 그 밖의 자료 | I18: =K18+M18+P18+R18+S18+U18 -> 0 | K18: =+'신고서(1쪽)'!L46 -> 0 | M18: =+'신고서(1쪽)'!O46 -> 0 | R18: ='신고서(1쪽)'!U46 -> 0 | S18: ='신고서(1쪽)'!W46 -> 0 | U18: ='신고서(1쪽)'!X46 -> 0
A19: =IF(ISBLANK('신고서(1쪽)'!B48),"",'신고서(1쪽)'!B48) | B19: =IF(ISBLANK('신고서(1쪽)'!B47),"",'신고서(1쪽)'!B47) | D19: =IF(ISBLANK('신고서(1쪽)'!C47),"",'신고서(1쪽)'!C47) | F19: =IF('신고서(1쪽)'!C48="-","",DATE(LEFT('신고서(1쪽)'!C48,2),MID('신고서(1쪽)'!C48,3,2),MID('신고서(1쪽)'!C48,5,2))) | H19: 국세청 자료 | I19: =K19+M19+P19+R19+S19+U19 -> 0 | K19: =+'신고서(1쪽)'!L47 -> 0 | M19: =+'신고서(1쪽)'!O47 -> 0 | P19: ='신고서(1쪽)'!S47 -> 0 | R19: ='신고서(1쪽)'!U47 -> 0 | S19: ='신고서(1쪽)'!W47 -> 0 | U19: ='신고서(1쪽)'!X47 -> 0
H20: 그 밖의 자료 | I20: =K20+M20+P20+R20+S20+U20 -> 0 | K20: =+'신고서(1쪽)'!L48 -> 0 | M20: =+'신고서(1쪽)'!O48 -> 0 | R20: ='신고서(1쪽)'!U48 -> 0 | S20: ='신고서(1쪽)'!W48 -> 0 | U20: ='신고서(1쪽)'!X48 -> 0
A21: =IF(ISBLANK('신고서(1쪽)'!B50),"",'신고서(1쪽)'!B50) | B21: =IF(ISBLANK('신고서(1쪽)'!B49),"",'신고서(1쪽)'!B49) | D21: =IF(ISBLANK('신고서(1쪽)'!C49),"",'신고서(1쪽)'!C49) | F21: =IF('신고서(1쪽)'!C50="-","",DATE(LEFT('신고서(1쪽)'!C50,2),MID('신고서(1쪽)'!C50,3,2),MID('신고서(1쪽)'!C50,5,2))) | H21: 국세청 자료 | I21: =K21+M21+P21+R21+S21+U21 -> 0 | K21: =+'신고서(1쪽)'!L49 -> 0 | M21: =+'신고서(1쪽)'!O49 -> 0 | P21: ='신고서(1쪽)'!S49 -> 0 | R21: ='신고서(1쪽)'!U49 -> 0 | S21: ='신고서(1쪽)'!W49 -> 0 | U21: ='신고서(1쪽)'!X49 -> 0
H22: 그 밖의 자료 | I22: =K22+M22+P22+R22+S22+U22 -> 0 | K22: =+'신고서(1쪽)'!L50 -> 0 | M22: =+'신고서(1쪽)'!O50 -> 0 | R22: ='신고서(1쪽)'!U50 -> 0 | S22: ='신고서(1쪽)'!W50 -> 0 | U22: ='신고서(1쪽)'!X50 -> 0
A23: =IF(ISBLANK('신고서(1쪽)'!B52),"",'신고서(1쪽)'!B52) | B23: =IF(ISBLANK('신고서(1쪽)'!B51),"",'신고서(1쪽)'!B51) | D23: =IF(ISBLANK('신고서(1쪽)'!C51),"",'신고서(1쪽)'!C51) | F23: =IF('신고서(1쪽)'!C52="-","",DATE(LEFT('신고서(1쪽)'!C52,2),MID('신고서(1쪽)'!C52,3,2),MID('신고서(1쪽)'!C52,5,2))) | H23: 국세청 자료 | I23: =K23+M23+P23+R23+S23+U23 -> 0 | K23: =+'신고서(1쪽)'!L51 -> 0 | M23: =+'신고서(1쪽)'!O51 -> 0 | P23: ='신고서(1쪽)'!S51 -> 0 | R23: ='신고서(1쪽)'!U51 -> 0 | S23: ='신고서(1쪽)'!W51 -> 0 | U23: ='신고서(1쪽)'!X51 -> 0
H24: 그 밖의 자료 | I24: =K24+M24+P24+R24+S24+U24 -> 0 | K24: =+'신고서(1쪽)'!L52 -> 0 | M24: =+'신고서(1쪽)'!O52 -> 0 | R24: ='신고서(1쪽)'!U52 -> 0 | S24: ='신고서(1쪽)'!W52 -> 0 | U24: ='신고서(1쪽)'!X52 -> 0
A25: =IF(ISBLANK('신고서(1쪽)'!B54),"",'신고서(1쪽)'!B54) | B25: =IF(ISBLANK('신고서(1쪽)'!B53),"",'신고서(1쪽)'!B53) | D25: =IF(ISBLANK('신고서(1쪽)'!C53),"",'신고서(1쪽)'!C53) | F25: =IF('신고서(1쪽)'!C54="-","",DATE(LEFT('신고서(1쪽)'!C54,2),MID('신고서(1쪽)'!C54,3,2),MID('신고서(1쪽)'!C54,5,2))) | H25: 국세청 자료 | I25: =K25+M25+P25+R25+S25+U25 -> 0 | K25: =+'신고서(1쪽)'!L53 -> 0 | M25: =+'신고서(1쪽)'!O53 -> 0 | P25: ='신고서(1쪽)'!S53 -> 0 | R25: ='신고서(1쪽)'!U53 -> 0 | S25: ='신고서(1쪽)'!W53 -> 0 | U25: ='신고서(1쪽)'!X53 -> 0
H26: 그 밖의 자료 | I26: =K26+M26+P26+R26+S26+U26 -> 0 | K26: =+'신고서(1쪽)'!L54 -> 0 | M26: =+'신고서(1쪽)'!O54 -> 0 | R26: ='신고서(1쪽)'!U54 -> 0 | S26: ='신고서(1쪽)'!W54 -> 0 | U26: ='신고서(1쪽)'!X54 -> 0
A27: =IF(ISBLANK('신고서(1쪽)'!B56),"",'신고서(1쪽)'!B56) | B27: =IF(ISBLANK('신고서(1쪽)'!B55),"",'신고서(1쪽)'!B55) | D27: =IF(ISBLANK('신고서(1쪽)'!C55),"",'신고서(1쪽)'!C55) | F27: =IF('신고서(1쪽)'!C56="-","",DATE(LEFT('신고서(1쪽)'!C56,2),MID('신고서(1쪽)'!C56,3,2),MID('신고서(1쪽)'!C56,5,2))) | H27: 국세청 자료 | I27: =K27+M27+P27+R27+S27+U27 -> 0 | K27: =+'신고서(1쪽)'!L55 -> 0 | M27: =+'신고서(1쪽)'!O55 -> 0 | P27: ='신고서(1쪽)'!S55 -> 0 | R27: ='신고서(1쪽)'!U55 -> 0 | S27: ='신고서(1쪽)'!W55 -> 0 | U27: ='신고서(1쪽)'!X55 -> 0
H28: 그 밖의 자료 | I28: =K28+M28+P28+R28+S28+U28 -> 0 | K28: =+'신고서(1쪽)'!L56 -> 0 | M28: =+'신고서(1쪽)'!O56 -> 0 | R28: ='신고서(1쪽)'!U56 -> 0 | S28: ='신고서(1쪽)'!W56 -> 0 | U28: ='신고서(1쪽)'!X56 -> 0
A29: ⑤-1 합 계 액 | I29: =SUM(I13:J28) -> 0 | K29: =SUM(K13:L28) -> 0 | M29: =SUM(M13:O28) -> 0 | P29: =SUM(P13,P15,P17,P19,P21,P23,P25,P27) -> 0 | R29: =SUM(R13:R28) -> 0 | S29: =SUM(S13:T28) -> 0 | U29: =SUM(U13:V28) -> 0
A31: 2. 신용카드 등 소득공제액의 계산
A32: ⑫ 신용카드 사용분 공제금액 (⑥×15%) | D32: ⑬ 직불카드+현금영수증 사용분 공제금액 (⑦+⑧)×30% | G32: ⑭ 문화체육사용분 공제금액 (총급여7천만원이하) (⑨×30%) | J32: ⑮ 전통시장 사용분 공제금액 (⑩x40%) | M32: (16) 대중교통 이용분 공제금액 (⑪×40%) | R32: ⑰ 공제제외금액 계산
R34: ⑰-1 총급여 | T34: ⑰-2 최저 사용금액 [(⑰-1)×25%] | V34: ⑰-3 공제제외금액
A37: =+INT(IF($R$37>70000000,(K29+'신고서(1쪽)'!AD56)*15%,K29*15%)) -> 0 | D37: =+INT(IF($R$37>70000000,(M29+P29+'신고서(1쪽)'!AF56+'신고서(1쪽)'!AH56)*30%,(M29+P29)*30%)) -> 0 | G37: =+INT(IF($R$37>70000000,0,R29*30%)) -> 0 | J37: =+INT(S29*40%) -> 0 | M37: =+INT(U29*40%) -> 0 | T37: =+INT($R$37*25%) -> 0 | V37: =MAX(O46,O47,O48) -> 0
A38: (18) 공제가능금액 [⑫+⑬+⑭+⑮+(16) -(⑰-3)] | E38: (19) 공제한도액 [총급여 수준별 300만원, 250만원] | H38: (20) 일반 공제금액 ((18)와 (19)중 적은 금액) | K38: (21) 대중교통,전통시장,문화체육사용분 추가공제액 계산 | T38: (22) 최종 공제금액 [(20) + (21)-3]
K40: (21)-1 추가공제가능금액 {18>19인 경우 (14+15+16)과 (18-19)}중 적은금액} | N40: (21)-2 추가공제 한도액 [총급여 수준별 300만원, 200만원] | R40: (21)-3 추가공제 금액 {(21)-1과 (21)-2 중 적은 금액}
A43: =+INT(A37+D37+G37+J37+M37-V37) -> 0 | E43: =IF(ISBLANK($R$37),0,IF($R$37<=70000000,3000000,2500000)) -> 0 | H43: =MAX(MIN(A43,E43),0) -> 0 | K43: =+INT(IF(A43<=E43,0,MIN((G37+J37+M37),(A43-E43)))) -> 0 | N43: =IF(ISBLANK($R$37),0,IF($R$37<=70000000,3000000,2000000)) -> 0 | R43: =MAX(MIN(K43,N43),0) -> 0 | T43: =+H43+R43 -> 0
A44: ⑰-3 계산
A45: 구 분 | G45: 계산식 | O45: ⑰-3
A46: ⑥ ≥ (⑰-2) | G46: (⑰-2) X 15% | O46: =+INT(IF(T37<=K29,T37*15%,0)) -> 0
A47: ⑥+⑦+⑧+⑨ ≥ (⑰-2) 〉 ⑥ | G47: ⑥×15% + {(⑰-2) - ⑥}×30% | O47: =+INT(IF(AND(T37>K29,T37<=K29+M29+P29+R29),(K29+'신고서(1쪽)'!AD56)*15%+(T37-(K29+'신고서(1쪽)'!AD56))*30%,0)) -> 0
A48: (⑰-2) 〉 ⑥+⑦+⑧+⑨ | G48: ⑥×15% + (⑦+⑧+⑨)×30% + {(⑰-2)-⑥-⑦-⑧-⑨}×40% | O48: =+INT(IF(T37>K29+M29+P29+R29,K29*15%+(M29+P29+R29)*30%+(T37-K29-M29-P29-R29)*40%,0)) -> 0
A51: 「조세특례제한법」제126조의2제7항 및 「조세특례제한법 시행령」 제121조의2제8항에 따라 신용카드 등 사용금액에 대한 소득공제를 신청합니다.
A52: =TODAY() -> 46030
A53: 신 청 인 | N53: =+IF('신고서(1쪽)'!D5="","",'신고서(1쪽)'!D5) | S53: (서명 또는 인)
...

Sheet 기부금명세서
B1: ■ 소득세법 시행규칙 [별지 제45호서식] <개정 2025. 06. 30.>
B2: 기 부 금 명 세 서
X3: (앞 쪽)
B4: 1. 인적사항 | E4: ①근무지 또는 사업장상호 | I4: =+IF('신고서(1쪽)'!D6="","",'신고서(1쪽)'!D6) -> 주식회사 프로워크 | O4: ②사업자등록번호 | S4: =+IF('신고서(1쪽)'!T6="","",'신고서(1쪽)'!T6) -> 751-81-00863
E5: ③성 명 | I5: =+IF('신고서(1쪽)'!D5="","",'신고서(1쪽)'!D5) | O5: ④주민등록번호 | S5: =+IF('신고서(1쪽)'!T5="","",'신고서(1쪽)'!T5) -> -
E6: ⑤주 소
E7: ⑥사업장 소재지 | U7: (전화번호: )
B8: 2. 해당연도 기부 명세
B9: 구분 | H9: 기 부 처 | L9: ⑪기 부 자 | S9: 기부 명세
B10: ⑦코드 | E10: ⑧기부내용 | H10: ⑨상호(법인명) | J10: ⑩사업자등록 번호 등 | L10: 관계 코드 | N10: 성명 | P10: 주민등록 번 호 | S10: 건수 | T10: 기부금액
T11: ⑫ 합계 (⑬+⑭) | U11: ⑬공제대상 기부금액 | W11: 공제 제외 기부금
W12: ⑭기부 장려금 신청금액 | X12: ⑮기타
E13: 금전 | J13: - - | P13: - | S13: 1 | T13: =+U13+W13 -> 0
E14: 금전 | J14: - - | P14: - | S14: 1 | T14: =+U14+W14 -> 0
E15: 금전 | J15: - - | P15: - | S15: 1 | T15: =+U15+W15 -> 0
E16: 금전 | J16: - - | P16: - | S16: 1 | T16: =+U16+W16 -> 0
E17: 금전 | J17: - - | P17: - | S17: 1 | T17: =+U17+W17 -> 0
E18: 금전 | J18: - - | P18: - | S18: 1 | T18: =+U18+W18 -> 0
E19: 금전 | J19: - - | P19: - | S19: 1 | T19: =+U19+W19 -> 0
E20: 금전 | J20: - - | P20: - | S20: 1 | T20: =+U20+W20 -> 0
B21: 3. 구분코드별 기부금의 합계
B22: 기부자 구 분 | D22: 총 계 | F22: 공제대상 기부금 | W22: 공제제외 기부금
F23: 특례(법정) 기부금 | I23: 정치자금 기부금 | J23: 고향사랑 기부금(일반) | K23: 고향사랑 기부금(특별재난) | N23: 종교단체외 일반(지정)기부금 | Q23: 종교단체 일반(지정)기부금 | T23: 우리사주조합 기 부 금 | W23: 기부장려금 신청금액 | X23: 기타
B24: 코 드 | F24: 10 | I24: 20 | J24: 43 | K24: 44 | N24: 40 | Q24: 41 | T24: 42 | W24: 10,40,41 | X24: 50
B25: 합 계 | D25: =SUM(F25:V25)-W25-X25 -> 0 | F25: =+F26+F27+F28+F29+F30+F31 -> 0 | I25: =+I26 -> 0 | J25: =+J26 -> 0 | K25: =+K26+K27+K28+K29+K30+K31 -> 0 | N25: =+N26+N27+N28+N29+N30+N31 -> 0 | Q25: =+Q26+Q27+Q28+Q29+Q30+Q31 -> 0 | T25: =+T26 -> 0 | W25: =+W26+W27+W28+W29+W30+W31 -> 0 | X25: =+X26+X27+X28+X29+X30+X31 -> 0
B26: 본 인 | D26: =SUM(F26:V26)-W26-X26 -> 0
B27: 배우자 | D27: =SUM(F27:V27)-W27-X27 -> 0
B28: 직계비속 | D28: =SUM(F28:V28)-W28-X28 -> 0
B29: 직계존속 | D29: =SUM(F29:V29)-W29-X29 -> 0
B30: 형제자매 | D30: =SUM(F30:V30)-W30-X30 -> 0
B31: 그 외 | D31: =SUM(F31:V31)-W31-X31 -> 0
B32: 4. 기부금 조정 명세
B33: 기부금코드 | D33: 기부연도 | F33: (16)기부금액 | I33: (17)전년까지 공제된금액 | K33: (18) 공제대상 금액(16)-(17) | O33: 해당연도 공제금액 | T33: 해당연도에 공제받지 못한 금액
O34: 필요경비 | Q34: 세액(소득)공제 | T34: 소멸금액 | W34: 이월금액
